BEGIN:VCALENDAR
VERSION:2.0
PRODID:-// - ECPv6.0.6.2//NONSGML v1.0//EN
CALSCALE:GREGORIAN
METHOD:PUBLISH
X-ORIGINAL-URL:https://mondeorhomebake.co.za
X-WR-CALDESC:Events for 
REFRESH-INTERVAL;VALUE=DURATION:PT1H
X-Robots-Tag:noindex
X-PUBLISHED-TTL:PT1H
BEGIN:VTIMEZONE
TZID:UTC
BEGIN:STANDARD
TZOFFSETFROM:+0000
TZOFFSETTO:+0000
TZNAME:UTC
DTSTART:20210101T000000
END:STANDARD
END:VTIMEZONE
BEGIN:VEVENT
DTSTART;TZID=UTC:20210215T113000
DTEND;TZID=UTC:20210215T133000
DTSTAMP:20260421T182107
CREATED:20210210T202921Z
LAST-MODIFIED:20210210T203223Z
UID:11539-1613388600-1613395800@mondeorhomebake.co.za
SUMMARY:Meat Loaf\, Potato Scoops\, Baby Marrow With Tomato and Onion & Glazed Carrots
DESCRIPTION:Basic cooking  – Meat Loaf\, Potato Scoops\, Baby Marrow With Tomato and Onion & Glazed Carrots
URL:https://mondeorhomebake.co.za/event/meat-loaf-potato-scoops-baby-marrow-with-tomato-and-onion-glazed-carrots/
LOCATION:Mondeor Homebake Supplies\, 253 Frandaph Drive\,\, Mondeor\, Gauteng\, 2190\, South Africa
CATEGORIES:Basic Cooking Course
ATTACH;FMTTYPE=image/jpeg:https://mondeorhomebake.co.za/wp-content/uploads/2017/08/1-e1612973616557.jpg
ORGANIZER;CN="Mondeor%20Homebake%20Supplies":MAILTO:info@mondeorhomebake.co.za
END:VEVENT
END:VCALENDAR