BEGIN:VCALENDAR
VERSION:2.0
PRODID:-// - ECPv6.0.6.2//NONSGML v1.0//EN
CALSCALE:GREGORIAN
METHOD:PUBLISH
X-ORIGINAL-URL:https://mondeorhomebake.co.za
X-WR-CALDESC:Events for 
REFRESH-INTERVAL;VALUE=DURATION:PT1H
X-Robots-Tag:noindex
X-PUBLISHED-TTL:PT1H
BEGIN:VTIMEZONE
TZID:UTC
BEGIN:STANDARD
TZOFFSETFROM:+0000
TZOFFSETTO:+0000
TZNAME:UTC
DTSTART:20210101T000000
END:STANDARD
END:VTIMEZONE
BEGIN:VEVENT
DTSTART;TZID=UTC:20210301T113000
DTEND;TZID=UTC:20210301T133000
DTSTAMP:20260421T165940
CREATED:20170831T073817Z
LAST-MODIFIED:20210210T210809Z
UID:1827-1614598200-1614605400@mondeorhomebake.co.za
SUMMARY:Lamb Stew with Dumplings\, Banana Caramel Pudding\, Apple\, Celery Salad.
DESCRIPTION: Basic cooking – Lamb Stew with Dumplings\, Banana Caramel Pudding\, Apple\, Celery Salad. \n  \n 
URL:https://mondeorhomebake.co.za/event/lamb-stew-with-dumplings-banana-caramel-pudding-apple-celery-salad/
LOCATION:Mondeor Homebake Supplies\, 253 Frandaph Drive\,\, Mondeor\, Gauteng\, 2190\, South Africa
CATEGORIES:Basic Cooking Course
ATTACH;FMTTYPE=image/jpeg:https://mondeorhomebake.co.za/wp-content/uploads/2017/08/Basic-Cooking-e1612973642810.jpg
ORGANIZER;CN="Mondeor%20Homebake%20Supplies":MAILTO:info@mondeorhomebake.co.za
END:VEVENT
END:VCALENDAR