BEGIN:VCALENDAR
VERSION:2.0
PRODID:-// - ECPv6.0.6.2//NONSGML v1.0//EN
CALSCALE:GREGORIAN
METHOD:PUBLISH
X-ORIGINAL-URL:https://mondeorhomebake.co.za
X-WR-CALDESC:Events for 
REFRESH-INTERVAL;VALUE=DURATION:PT1H
X-Robots-Tag:noindex
X-PUBLISHED-TTL:PT1H
BEGIN:VTIMEZONE
TZID:UTC
BEGIN:STANDARD
TZOFFSETFROM:+0000
TZOFFSETTO:+0000
TZNAME:UTC
DTSTART:20210101T000000
END:STANDARD
END:VTIMEZONE
BEGIN:VEVENT
DTSTART;TZID=UTC:20210302T083000
DTEND;TZID=UTC:20210302T123000
DTSTAMP:20260421T170049
CREATED:20210210T211923Z
LAST-MODIFIED:20210211T121314Z
UID:11519-1614673800-1614688200@mondeorhomebake.co.za
SUMMARY:Carrot Cake & Cup Cakes
DESCRIPTION:Advanced Baking – Carrot Cake & Cup Cakes
URL:https://mondeorhomebake.co.za/event/carrot-cake-cup-cakes/
LOCATION:Mondeor Homebake Supplies\, 253 Frandaph Drive\,\, Mondeor\, Gauteng\, 2190\, South Africa
CATEGORIES:Advanced Baking Courses
ATTACH;FMTTYPE=image/jpeg:https://mondeorhomebake.co.za/wp-content/uploads/2021/02/portrait-of-female-confectioner-topping-a-cupcake-PLKLGB7-scaled-e1612973600679.jpg
ORGANIZER;CN="Mondeor%20Homebake%20Supplies":MAILTO:info@mondeorhomebake.co.za
END:VEVENT
END:VCALENDAR