BEGIN:VCALENDAR
VERSION:2.0
PRODID:-// - ECPv6.0.6.2//NONSGML v1.0//EN
CALSCALE:GREGORIAN
METHOD:PUBLISH
X-ORIGINAL-URL:https://mondeorhomebake.co.za
X-WR-CALDESC:Events for 
REFRESH-INTERVAL;VALUE=DURATION:PT1H
X-Robots-Tag:noindex
X-PUBLISHED-TTL:PT1H
BEGIN:VTIMEZONE
TZID:UTC
BEGIN:STANDARD
TZOFFSETFROM:+0000
TZOFFSETTO:+0000
TZNAME:UTC
DTSTART:20210101T000000
END:STANDARD
TZID:UTC
BEGIN:STANDARD
TZOFFSETFROM:+0000
TZOFFSETTO:+0000
TZNAME:UTC
DTSTART:20210101T000000
END:STANDARD
END:VTIMEZONE
BEGIN:VEVENT
DTSTART;TZID=UTC:20210211T083000
DTEND;TZID=UTC:20210211T120000
DTSTAMP:20260422T050936
CREATED:20180109T071204Z
LAST-MODIFIED:20210210T201742Z
UID:2000-1613032200-1613044800@mondeorhomebake.co.za
SUMMARY:Coconut Cake and Custard Slices
DESCRIPTION:Baking Course  – Coconut Cake and Custard Slices
URL:https://mondeorhomebake.co.za/event/coconut-cake-and-custard-slices/
LOCATION:Mondeor Homebake Supplies\, 253 Frandaph Drive\,\, Mondeor\, Gauteng\, 2190\, South Africa
CATEGORIES:Basic Baking Course
ATTACH;FMTTYPE=image/jpeg:https://mondeorhomebake.co.za/wp-content/uploads/2021/02/flatlay-of-preparation-pastry-homemade-recipe-for-PZWX368-scaled-e1612971102119.jpg
ORGANIZER;CN="Mondeor%20Homebake%20Supplies":MAILTO:info@mondeorhomebake.co.za
END:VEVENT
BEGIN:VEVENT
DTSTART;TZID=UTC:20210217T083000
DTEND;TZID=UTC:20210217T123000
DTSTAMP:20260422T050936
CREATED:20210210T204110Z
LAST-MODIFIED:20210211T114916Z
UID:4482-1613550600-1613565000@mondeorhomebake.co.za
SUMMARY:Apple Tart & Ginger Biscuits
DESCRIPTION:Basic Baking – Apple Tart & Ginger Biscuits
URL:https://mondeorhomebake.co.za/event/apple-tart-ginger-biscuits/
LOCATION:Mondeor Homebake Supplies\, 253 Frandaph Drive\,\, Mondeor\, Gauteng\, 2190\, South Africa
CATEGORIES:Basic Baking Course
ATTACH;FMTTYPE=image/jpeg:https://mondeorhomebake.co.za/wp-content/uploads/2021/02/portrait-of-female-confectioner-topping-a-cupcake-PLKLGB7-scaled-e1612973600679.jpg
ORGANIZER;CN="Mondeor%20Homebake%20Supplies":MAILTO:info@mondeorhomebake.co.za
END:VEVENT
BEGIN:VEVENT
DTSTART;TZID=UTC:20210218T083000
DTEND;TZID=UTC:20210218T123000
DTSTAMP:20260422T050936
CREATED:20210210T124744Z
LAST-MODIFIED:20210211T115415Z
UID:2006-1613637000-1613651400@mondeorhomebake.co.za
SUMMARY:Jewish Tart
DESCRIPTION:Basic Baking – Jewish Tart
URL:https://mondeorhomebake.co.za/event/jewish-tart/
LOCATION:Mondeor Homebake Supplies\, 253 Frandaph Drive\,\, Mondeor\, Gauteng\, 2190\, South Africa
CATEGORIES:Basic Baking Course
ATTACH;FMTTYPE=image/jpeg:https://mondeorhomebake.co.za/wp-content/uploads/2021/02/flatlay-of-preparation-pastry-homemade-recipe-for-PZWX368-scaled-e1612971102119.jpg
ORGANIZER;CN="Mondeor%20Homebake%20Supplies":MAILTO:info@mondeorhomebake.co.za
END:VEVENT
BEGIN:VEVENT
DTSTART;TZID=UTC:20210224T083000
DTEND;TZID=UTC:20210224T123000
DTSTAMP:20260422T050936
CREATED:20210210T133002Z
LAST-MODIFIED:20210210T205912Z
UID:11522-1614155400-1614169800@mondeorhomebake.co.za
SUMMARY:All Bran Muffins and Savoury Tart
DESCRIPTION:Basic Baking – All Bran Muffins and Savoury Tart
URL:https://mondeorhomebake.co.za/event/all-bran-muffins-and-savoury-tart/
LOCATION:Mondeor Homebake Supplies\, 253 Frandaph Drive\,\, Mondeor\, Gauteng\, 2190\, South Africa
CATEGORIES:Basic Baking Course
ATTACH;FMTTYPE=image/jpeg:https://mondeorhomebake.co.za/wp-content/uploads/2021/02/portrait-of-female-confectioner-topping-a-cupcake-PLKLGB7-scaled-e1612973600679.jpg
ORGANIZER;CN="Mondeor%20Homebake%20Supplies":MAILTO:info@mondeorhomebake.co.za
END:VEVENT
END:VCALENDAR