BEGIN:VCALENDAR
VERSION:2.0
PRODID:-// - ECPv6.0.6.2//NONSGML v1.0//EN
CALSCALE:GREGORIAN
METHOD:PUBLISH
X-ORIGINAL-URL:https://mondeorhomebake.co.za
X-WR-CALDESC:Events for 
REFRESH-INTERVAL;VALUE=DURATION:PT1H
X-Robots-Tag:noindex
X-PUBLISHED-TTL:PT1H
BEGIN:VTIMEZONE
TZID:UTC
BEGIN:STANDARD
TZOFFSETFROM:+0000
TZOFFSETTO:+0000
TZNAME:UTC
DTSTART:20210101T000000
END:STANDARD
END:VTIMEZONE
BEGIN:VEVENT
DTSTART;TZID=UTC:20210408T083000
DTEND;TZID=UTC:20210408T123000
DTSTAMP:20260422T002035
CREATED:20210216T111244Z
LAST-MODIFIED:20210217T125851Z
UID:11694-1617870600-1617885000@mondeorhomebake.co.za
SUMMARY:Cakesicles
DESCRIPTION:Baking and cake decorating 
URL:https://mondeorhomebake.co.za/event/cakesicles/
LOCATION:Mondeor Homebake Supplies\, 253 Frandaph Drive\,\, Mondeor\, Gauteng\, 2190\, South Africa
CATEGORIES:Cake Decorating Course
ATTACH;FMTTYPE=image/jpeg:https://mondeorhomebake.co.za/wp-content/uploads/2021/02/summer-tea-party-PUAKJU9-scaled-e1613472420284.jpg
ORGANIZER;CN="Mondeor%20Homebake%20Supplies":MAILTO:info@mondeorhomebake.co.za
END:VEVENT
END:VCALENDAR