BEGIN:VCALENDAR
VERSION:2.0
PRODID:-// - ECPv6.0.6.2//NONSGML v1.0//EN
CALSCALE:GREGORIAN
METHOD:PUBLISH
X-ORIGINAL-URL:https://mondeorhomebake.co.za
X-WR-CALDESC:Events for 
REFRESH-INTERVAL;VALUE=DURATION:PT1H
X-Robots-Tag:noindex
X-PUBLISHED-TTL:PT1H
BEGIN:VTIMEZONE
TZID:UTC
BEGIN:STANDARD
TZOFFSETFROM:+0000
TZOFFSETTO:+0000
TZNAME:UTC
DTSTART:20210101T000000
END:STANDARD
END:VTIMEZONE
BEGIN:VEVENT
DTSTART;TZID=UTC:20210213T083000
DTEND;TZID=UTC:20210213T123000
DTSTAMP:20260421T223248
CREATED:20210210T202332Z
LAST-MODIFIED:20210210T202627Z
UID:11540-1613205000-1613219400@mondeorhomebake.co.za
SUMMARY:Lasagne\, Italian Salad & Garlic Bread\, Chocolate Self-sauce Pudding Cheesecake.
DESCRIPTION:Catering & Desserts – Lasagne\, Italian Salad & Garlic Bread\, Chocolate Self-sauce Pudding Cheesecake.
URL:https://mondeorhomebake.co.za/event/lasagne-italian-salad-garlic-bread-chocolate-self-sauce-pudding-cheesecake/
LOCATION:Mondeor Homebake Supplies\, 253 Frandaph Drive\,\, Mondeor\, Gauteng\, 2190\, South Africa
CATEGORIES:Catering and Desserts Course
ATTACH;FMTTYPE=image/jpeg:https://mondeorhomebake.co.za/wp-content/uploads/2021/02/Catering-Image-e1612973471148.jpg
ORGANIZER;CN="Mondeor%20Homebake%20Supplies":MAILTO:info@mondeorhomebake.co.za
END:VEVENT
BEGIN:VEVENT
DTSTART;TZID=UTC:20210212T083000
DTEND;TZID=UTC:20210212T123000
DTSTAMP:20260421T223248
CREATED:20210210T125422Z
LAST-MODIFIED:20210210T201827Z
UID:1879-1613118600-1613133000@mondeorhomebake.co.za
SUMMARY:Fish Cakes\, Spinach\, Rice Tart. Carrots In Orange Juice
DESCRIPTION:Advanced cooking \n 
URL:https://mondeorhomebake.co.za/event/fish-cakes-spinach-rice-tart-carrots-in-orange-juice/
LOCATION:Mondeor Homebake Supplies\, 253 Frandaph Drive\,\, Mondeor\, Gauteng\, 2190\, South Africa
CATEGORIES:Advanced Cooking Course
ATTACH;FMTTYPE=image/jpeg:https://mondeorhomebake.co.za/wp-content/uploads/2017/08/1-e1612973616557.jpg
ORGANIZER;CN="Mondeor%20Homebake%20Supplies":MAILTO:info@mondeorhomebake.co.za
END:VEVENT
BEGIN:VEVENT
DTSTART;TZID=UTC:20210211T083000
DTEND;TZID=UTC:20210211T123000
DTSTAMP:20260421T223248
CREATED:20210216T105825Z
LAST-MODIFIED:20210216T110441Z
UID:11685-1613032200-1613046600@mondeorhomebake.co.za
SUMMARY:Isomalt
DESCRIPTION:Baking and cake decorating 
URL:https://mondeorhomebake.co.za/event/isomalt/
LOCATION:Mondeor Homebake Supplies\, 253 Frandaph Drive\,\, Mondeor\, Gauteng\, 2190\, South Africa
CATEGORIES:Baking,Cake Decorating Course
ATTACH;FMTTYPE=image/jpeg:https://mondeorhomebake.co.za/wp-content/uploads/2021/02/summer-tea-party-PUAKJU9-scaled-e1613472420284.jpg
ORGANIZER;CN="Mondeor%20Homebake%20Supplies":MAILTO:info@mondeorhomebake.co.za
END:VEVENT
BEGIN:VEVENT
DTSTART;TZID=UTC:20210211T083000
DTEND;TZID=UTC:20210211T120000
DTSTAMP:20260421T223248
CREATED:20180109T071204Z
LAST-MODIFIED:20210210T201742Z
UID:2000-1613032200-1613044800@mondeorhomebake.co.za
SUMMARY:Coconut Cake and Custard Slices
DESCRIPTION:Baking Course  – Coconut Cake and Custard Slices
URL:https://mondeorhomebake.co.za/event/coconut-cake-and-custard-slices/
LOCATION:Mondeor Homebake Supplies\, 253 Frandaph Drive\,\, Mondeor\, Gauteng\, 2190\, South Africa
CATEGORIES:Basic Baking Course
ATTACH;FMTTYPE=image/jpeg:https://mondeorhomebake.co.za/wp-content/uploads/2021/02/flatlay-of-preparation-pastry-homemade-recipe-for-PZWX368-scaled-e1612971102119.jpg
ORGANIZER;CN="Mondeor%20Homebake%20Supplies":MAILTO:info@mondeorhomebake.co.za
END:VEVENT
END:VCALENDAR